BEGIN:VCALENDAR
VERSION:2.0
PRODID:-//Quabbin Valley Twirlers - ECPv6.0.8//NONSGML v1.0//EN
CALSCALE:GREGORIAN
METHOD:PUBLISH
X-WR-CALNAME:Quabbin Valley Twirlers
X-ORIGINAL-URL:https://quabbinvalley.mysquaredance.com
X-WR-CALDESC:Events for Quabbin Valley Twirlers
REFRESH-INTERVAL;VALUE=DURATION:PT1H
X-Robots-Tag:noindex
X-PUBLISHED-TTL:PT1H
BEGIN:VTIMEZONE
TZID:America/New_York
BEGIN:DAYLIGHT
TZOFFSETFROM:-0500
TZOFFSETTO:-0400
TZNAME:EDT
DTSTART:20240310T070000
END:DAYLIGHT
BEGIN:STANDARD
TZOFFSETFROM:-0400
TZOFFSETTO:-0500
TZNAME:EST
DTSTART:20241103T060000
END:STANDARD
END:VTIMEZONE
BEGIN:VEVENT
DTSTART;TZID=America/New_York:20240406T193000
DTEND;TZID=America/New_York:20240406T220000
DTSTAMP:20260424T114121
CREATED:20240304T161120Z
LAST-MODIFIED:20240304T161120Z
UID:340-1712431800-1712440800@quabbinvalley.mysquaredance.com
SUMMARY:Quabbin Valley Twirlers
DESCRIPTION:Trail in to the Convention \nAPRIL 6
URL:https://quabbinvalley.mysquaredance.com/event/quabbin-valley-twirlers-12/
LOCATION:First Church of Ludlow\, 859 Center St\,\, Ludlow\, MA\, 01056\, United States
CATEGORIES:Specialty dance
END:VEVENT
END:VCALENDAR