BEGIN:VCALENDAR
VERSION:2.0
PRODID:-//Quabbin Valley Twirlers - ECPv6.0.8//NONSGML v1.0//EN
CALSCALE:GREGORIAN
METHOD:PUBLISH
X-ORIGINAL-URL:https://quabbinvalley.mysquaredance.com
X-WR-CALDESC:Events for Quabbin Valley Twirlers
REFRESH-INTERVAL;VALUE=DURATION:PT1H
X-Robots-Tag:noindex
X-PUBLISHED-TTL:PT1H
BEGIN:VTIMEZONE
TZID:America/New_York
BEGIN:DAYLIGHT
TZOFFSETFROM:-0500
TZOFFSETTO:-0400
TZNAME:EDT
DTSTART:20250309T070000
END:DAYLIGHT
BEGIN:STANDARD
TZOFFSETFROM:-0400
TZOFFSETTO:-0500
TZNAME:EST
DTSTART:20251102T060000
END:STANDARD
END:VTIMEZONE
BEGIN:VEVENT
DTSTART;TZID=America/New_York:20250324T180000
DTEND;TZID=America/New_York:20250324T200000
DTSTAMP:20260421T095745
CREATED:20240304T152816Z
LAST-MODIFIED:20250320T160813Z
UID:306-1742839200-1742846400@quabbinvalley.mysquaredance.com
SUMMARY:Plus with US
DESCRIPTION:Plus workshop with Gloria at the \nFirst church is Ludlow\, 859 Center St. from 6-8 pm \nEvery monday evening starting March 4 \n$6 pp
URL:https://quabbinvalley.mysquaredance.com/event/plus-with-us-4/
LOCATION:Union Church of Christ\, 51 Center st. Ludlow\, 51 Center St.\, Ludlow Ma\, MA\, 01056\, United States
CATEGORIES:Plus workshop
ORGANIZER;CN="Gloria":MAILTO:ladicaller@gogtt.net
END:VEVENT
END:VCALENDAR